BEGIN:VCALENDAR
VERSION:2.0
PRODID:-//jEvents 2.0 for Joomla//EN
CALSCALE:GREGORIAN
METHOD:PUBLISH
BEGIN:VTIMEZONE
TZID:Europe/Paris
BEGIN:STANDARD
DTSTART:20240204T000000
RDATE:20240331T030000
TZOFFSETFROM:+0200
TZOFFSETTO:+0100
TZNAME:Europe/Paris CET
END:STANDARD
BEGIN:STANDARD
DTSTART:20241027T020000
RDATE:20250330T030000
TZOFFSETFROM:+0200
TZOFFSETTO:+0100
TZNAME:Europe/Paris CET
END:STANDARD
BEGIN:STANDARD
DTSTART:20251026T020000
RDATE:20260329T030000
TZOFFSETFROM:+0200
TZOFFSETTO:+0100
TZNAME:Europe/Paris CET
END:STANDARD
BEGIN:STANDARD
DTSTART:20261025T020000
RDATE:20270328T030000
TZOFFSETFROM:+0200
TZOFFSETTO:+0100
TZNAME:Europe/Paris CET
END:STANDARD
BEGIN:STANDARD
DTSTART:20271031T020000
RDATE:20280326T030000
TZOFFSETFROM:+0200
TZOFFSETTO:+0100
TZNAME:Europe/Paris CET
END:STANDARD
BEGIN:STANDARD
DTSTART:20281029T020000
RDATE:20290325T030000
TZOFFSETFROM:+0200
TZOFFSETTO:+0100
TZNAME:Europe/Paris CET
END:STANDARD
BEGIN:DAYLIGHT
DTSTART:20240331T030000
RDATE:20241027T020000
TZOFFSETFROM:+0100
TZOFFSETTO:+0200
TZNAME:Europe/Paris CEST
END:DAYLIGHT
BEGIN:DAYLIGHT
DTSTART:20250330T030000
RDATE:20251026T020000
TZOFFSETFROM:+0100
TZOFFSETTO:+0200
TZNAME:Europe/Paris CEST
END:DAYLIGHT
BEGIN:DAYLIGHT
DTSTART:20260329T030000
RDATE:20261025T020000
TZOFFSETFROM:+0100
TZOFFSETTO:+0200
TZNAME:Europe/Paris CEST
END:DAYLIGHT
BEGIN:DAYLIGHT
DTSTART:20270328T030000
RDATE:20271031T020000
TZOFFSETFROM:+0100
TZOFFSETTO:+0200
TZNAME:Europe/Paris CEST
END:DAYLIGHT
BEGIN:DAYLIGHT
DTSTART:20280326T030000
RDATE:20281029T020000
TZOFFSETFROM:+0100
TZOFFSETTO:+0200
TZNAME:Europe/Paris CEST
END:DAYLIGHT
END:VTIMEZONE
BEGIN:VEVENT
UID:7a40ed1e176382b406574ad46c2c5f22
CATEGORIES:Training
CREATED:20250108T172511
SUMMARY:Infranalytics Training Day – NMR of Quadripolar Nuclei
LOCATION:CEMHTI Orléans
DESCRIPTION:<p>As every year as part of the Infranalytics Users Day, a training day is 
 organized in addition by the host site for the entire French scientific com
 munity. This year, the training will focus on solid high-resolution NMR (nu
 clear magnetic resonance) spectroscopy for the study of quadrupole nuclei.<
 /p><p>The day's program will be structured around two parts organized per h
 alf-day, and will be provided by members of the CEMHTI NMR team. The mornin
 g will be dedicated to a theoretical part focused more specifically on the 
 NMR of quadrupole nuclei. The practical part will take place in the afterno
 on directly on the CEMHTI spectrometers, including the two very high magnet
 ic fields (17.6T and 20T). On this occasion, registered persons will be abl
 e, if they wish, to bring one of their samples to carry out experiments (as
  far as possible). Training starts at 9:00 a.m. and ends at 5:30 p.m. Cater
 ing on site. Training limited to 10 people.</p>
CONTACT:This email address is being protected from spambots. You need JavaScript enabled to view it.
				document.getElementById('cloak297c58bbfa7407b04d6ce4d6c72169cf').innerHTML = '';
				var prefix = '&#109;a' + 'i&#108;' + '&#116;o';
				var path = 'hr' + 'ef' + '=';
				var addy297c58bbfa7407b04d6ce4d6c72169cf = 'v&#105;nc&#101;nt.s&#97;r&#111;&#117;-k&#97;n&#105;&#97;n' + '&#64;';
				addy297c58bbfa7407b04d6ce4d6c72169cf = addy297c58bbfa7407b04d6ce4d6c72169cf + 'cnrs-&#111;rl&#101;&#97;ns' + '&#46;' + 'fr';
				var addy_text297c58bbfa7407b04d6ce4d6c72169cf = 'v&#105;nc&#101;nt.s&#97;r&#111;&#117;-k&#97;n&#105;&#97;n' + '&#64;' + 'cnrs-&#111;rl&#101;&#97;ns' + '&#46;' + 'fr';document.getElementById('cloak297c58bbfa7407b04d6ce4d6c72169cf').innerHTML += '<a ' + path + '\'' + prefix + ':' + addy297c58bbfa7407b04d6ce4d6c72169cf + '\'>'+addy_text297c58bbfa7407b04d6ce4d6c72169cf+'';
		
X-EXTRAINFO:Access: From Orléans station, bus 40 (Scientific Research stop) then 5 min 
 on foot, or bus 41 (Paul Gaugin stop) then 1 min on foot, or Tram A (L’indi
 en stop) then 10 min on foot.
DTSTAMP:20260421T155511
DTSTART;TZID=Europe/Paris;VALUE=DATE:20250204
DTEND;TZID=Europe/Paris;VALUE=DATE:20250205
SEQUENCE:0
TRANSP:OPAQUE
END:VEVENT
END:VCALENDAR